BEGIN:VCALENDAR
VERSION:2.0
PRODID:-//Pitch Black Printing Co. - ECPv6.15.20//NONSGML v1.0//EN
CALSCALE:GREGORIAN
METHOD:PUBLISH
X-ORIGINAL-URL:https://pitchblackprintingco.com
X-WR-CALDESC:Events for Pitch Black Printing Co.
REFRESH-INTERVAL;VALUE=DURATION:PT1H
X-Robots-Tag:noindex
X-PUBLISHED-TTL:PT1H
BEGIN:VTIMEZONE
TZID:America/Los_Angeles
BEGIN:DAYLIGHT
TZOFFSETFROM:-0800
TZOFFSETTO:-0700
TZNAME:PDT
DTSTART:20230312T100000
END:DAYLIGHT
BEGIN:STANDARD
TZOFFSETFROM:-0700
TZOFFSETTO:-0800
TZNAME:PST
DTSTART:20231105T090000
END:STANDARD
BEGIN:DAYLIGHT
TZOFFSETFROM:-0800
TZOFFSETTO:-0700
TZNAME:PDT
DTSTART:20240310T100000
END:DAYLIGHT
BEGIN:STANDARD
TZOFFSETFROM:-0700
TZOFFSETTO:-0800
TZNAME:PST
DTSTART:20241103T090000
END:STANDARD
BEGIN:DAYLIGHT
TZOFFSETFROM:-0800
TZOFFSETTO:-0700
TZNAME:PDT
DTSTART:20250309T100000
END:DAYLIGHT
BEGIN:STANDARD
TZOFFSETFROM:-0700
TZOFFSETTO:-0800
TZNAME:PST
DTSTART:20251102T090000
END:STANDARD
BEGIN:DAYLIGHT
TZOFFSETFROM:-0800
TZOFFSETTO:-0700
TZNAME:PDT
DTSTART:20260308T100000
END:DAYLIGHT
BEGIN:STANDARD
TZOFFSETFROM:-0700
TZOFFSETTO:-0800
TZNAME:PST
DTSTART:20261101T090000
END:STANDARD
END:VTIMEZONE
BEGIN:VEVENT
DTSTART;TZID=America/Los_Angeles:20250321T180000
DTEND;TZID=America/Los_Angeles:20250321T200000
DTSTAMP:20260421T100915
CREATED:20250611T165708Z
LAST-MODIFIED:20250611T165708Z
UID:6050-1742580000-1742587200@pitchblackprintingco.com
SUMMARY:Cerealism - A Surreal Breakfast Exhibition
DESCRIPTION:This March\, we welcome over 15 local artists to the Pitch Black Gallery for the grand opening of Cerealism\, challenging them to “think beyond the bowl” with their artwork. The only rule? No other breakfast foods allowed.
URL:https://pitchblackprintingco.com/event/cerealism-a-surreal-breakfast-exhibition/
LOCATION:Pitch Black Printing\, 700 E 4th St. suite #A\, Reno\, NV\, 89512\, United States
CATEGORIES:art,art exhibit,art show
ATTACH;FMTTYPE=image/jpeg:https://pitchblackprintingco.com/wp-content/uploads/2025/03/SonofMan_11x17Poster-scaled.jpg
ORGANIZER;CN="Pitch Black Printing co.":MAILTO:info@pitchblackprintingco.com
END:VEVENT
BEGIN:VEVENT
DTSTART;TZID=America/Los_Angeles:20240413T180000
DTEND;TZID=America/Los_Angeles:20240413T200000
DTSTAMP:20260421T100915
CREATED:20240327T181512Z
LAST-MODIFIED:20240327T181512Z
UID:5818-1713031200-1713038400@pitchblackprintingco.com
SUMMARY:Abstruse Reflection - An Exhibition of Artwork by Dana Nöllsch
DESCRIPTION:Our upcoming solo artist show will be Dana Nöllsch! So let’s take a peek into the vibrant world of Dana\, a creative force with roots in Reno\, Nevada\, whose work exudes a distinct “Reno Tint.” \nDana’s artistic journey is a fusion of photography and digital painting\, crafting images that delve deep into emotions and perceptions. Influenced by a diverse array of artists ranging from Annie Leibovitz to Jackson Pollock\, Dana finds inspiration in the tranquility of meditation\, tapping into the boundless reservoir of creativity within… \nThis show will hang in our galley until May 15th.
URL:https://pitchblackprintingco.com/event/abstruse-reflection-an-exhibition-of-artwork-by-dana-nollsch/
LOCATION:Pitch Black Printing\, 700 E 4th St. suite #A\, Reno\, NV\, 89512\, United States
CATEGORIES:art exhibit
ATTACH;FMTTYPE=image/jpeg:https://pitchblackprintingco.com/wp-content/uploads/2024/03/Show_Cards.jpg
ORGANIZER;CN="Pitch Black Printing co.":MAILTO:info@pitchblackprintingco.com
END:VEVENT
END:VCALENDAR